BEGIN:VCALENDAR
METHOD:PUBLISH
VERSION:2.0
PRODID:-//Eventilla iCal Syndication//NONSGML Liana//EN
BEGIN:VEVENT
UID:2kBYD@eventilla.com
DTSTAMP:20230308T103000Z
DTSTART:20230308T103000Z
DTEND:20230308T173000Z
SUMMARY:Inframarkkinat 2023
DESCRIPTION:Kokonaiskuva inframarkkinoiden tilanteesta ja lähivuosien kehitysnäkymistä. Yleisönä infran suunnittelijat\, rakentajat\, rakennuttajat\, omistajat ja rahoittajat sekä alan viranomaiset.\nAmmattilaistapahtuma INFRAMARKKINAT 2023 tulee tarjoamaan konkreettisia välähdyksiä toimialan ajankohtaisimmista teemoista ja tekijöistä. Yhdeksi infra-alan merkittävimmistä kasvava päättäjien ja vaikuttajien tapahtuma sisältää aktiivisten toimijoiden näyttelyn sekä tyylikkäät puitteet verkostoitumiselle.
LOCATION:Pikku-Finlandia\, Karamzininranta 4\, 00100\, Helsinki
URL:http://tapahtumat.rakennuslehti.fi/inframarkkinat2023
END:VEVENT
END:VCALENDAR
