BEGIN:VCALENDAR
METHOD:PUBLISH
VERSION:2.0
PRODID:-//Eventilla iCal Syndication//NONSGML Liana//EN
BEGIN:VEVENT
UID:n6ra7@eventilla.com
DTSTAMP:20201021T053000Z
DTSTART:20201021T053000Z
DTEND:20201021T080000Z
SUMMARY:Destian Infran taju -webinaari
DESCRIPTION:Kaupungit\, liikkuminen ja infra muutoksessa\nHuomisen infra on yhteiskunnan\, kaupunkien ja liikenteen kehityksen mahdollistaja. Ilmastonmuutos ja maailman muuttuminen edellyttävät myös infralta\, kaupungeilta ja liikenteeltä sekä niiden tekijöiltä ja käyttäjiltä uudistumista. Toimiva infra rakennetaan yhdessä onnistuen.\nKutsummekin kaupunkien\, liikkumisen ja infran tulevaisuuden parissa työskentelevät asiantuntijat ja päättäjät Infran taju -webinaariin keskiviikkona 21.10.2020 klo 8.30-11.00.\nVallitsevasta tilanteesta johtuen tapahtuma järjestetään webinaarimuotoisena. Pyydämme kaikkia osallistujia ilmoittautumaan webinaariin\, vaikka olisit jo keväällä ilmoittautunut alkuperäiseen seminaariin.\nWebinaarin puhujat\nJuhani Damski\, kansliapäällikkö\, Ympäristöministeriö:Ilmastonmuutos – missä mennäänSampo Hietanen\, toimitusjohtaja\, MaaS Global:Liikkuminen murroksessa – tulevaisuuden haasteet ja mahdollisuudetInka Mero\, startup-sijoittaja\, Voima Ventures Oy:Kaupungit ja liikkuminen – miten digitalisaatio ja start-up ekosysteemit muuttavat elämäämmeJukka Mäkelä\, kaupunginjohtaja\, Espoon kaupunki:Espoo kaupunkina ennen ja jälkeen Länsimetron
LOCATION:Webinaari
URL:http://tapahtumat.rakennuslehti.fi/infran-taju
END:VEVENT
END:VCALENDAR
